Workbook

Sheet نظام ادارة الجودة
B1: شعار منظمة العميل | D1: استبيان خاص ببنود المواصفة الدولية لبناء نظام الجودة ISO 9001:2015
D2: اسم المنظمة :
D3: مجال العمل :
D4: عدد الإدارات :
D5: عدد الموظفين الكلي :
D6: عدد موظفين الإدارة العليا:
D7: عدد موظفين الإدارة الوسطى:
D8: الشخص المسؤول:
D9: العنوان:
B10: رقم البند (ISO 9001:2015) | C10: وصف البند | E10: الانشطة ( المستندات, والسجلات الداعمة) | I10: جهة ذات العلاقة(الاختصاص) | J10: لا يوجد -1 | K10: جزئي 0 | L10: 1 موجود
B13: 1 | C13: عام | E13: يوجد لدى المنظمة رؤية ورسالة وأهداف
E14: تقوم المنظمة بتحديد احتياجات وتوقعات العملاء والأطراف المهتمة الأخرى ذات الصلة
E15: تحدد المنظمة العمليات التشغيلية الخاصة بها
E16: يوجد لدى المنظمة أنظمة إدارية / أدلة / الوائح متبعه (يرجى ذكرها بالتفصيل)
E17: يوجد لدى المنظمة مواصفات ومراجع ومعايير خاصة بمجال عملها ويتم تطبيقها
E18: يوجد لدى المنظمة مشاريع خاصة بها (يرجى ذكرها بالتفصيل)
E19: يوجد لدى المنظمة هيكل تنظيمي وتوصيفات وظيفية للموظفين
B20: 2 | C20: المواصفات | E20: ISO 9000- 9001-9004
B21: 3 | C21: منهجية العمليات | E21: تعمل المنظمة على إدارة العمليات الخاصة بها وفق منهجية محددة و واضحة
E22: يتم تحسين وتطوير العمليات استناداً إلى تحليل وتقييم واقعي
B23: 4 | C23: دائرة PDCA | E23: يتم تطبيق منهجية PDCA على جميع العمليات الخاصة بالمنظمة ونظام إدارة الجودة
B24: 5 | C24: التفكير المبني على المخاطر | E24: تعمل المنظمة وفق اختيار وإنشاء منهج خاص للتعامل مع المخاطر
B25: 6 | C25: التوافق مع مواصفات النظم الإدارة الأخرى | E25: تنفذ المنظمة العمليات بطريقة توافقية ومتناسقة مع نظام إدارة الجودة ومواصفات النظم الأخرى
B26: 4
B27: نظام إدارة الجودة - المتطلبات
B28: 1 | C28: المجال | E28: مجال عمل المنظمة (خدمة /منتج)
B29: 2 | C29: المراجع
B30: 3 | C30: المصطلحات والتعريفات | E30: المواصفة ISO 9001:2005+ المواصفة ISO 2015
B31: 4 | C31: سياق (إطار) المنظمة
B32: 4-1 | C32: فهم المنظمة وسياقها | E32: تحدد المنظمة الموضوعات الخارجية والداخلية ذات العلاقة بأغراض المنظمة وتوجهاتها الاستراتيجية والقيم والثقافة ومعارف وأداء المنظمة
B33: 4-2 | C33: فهم احتياجات وتوقعها الأطراف المهتمة | E33: تحدد المنظمة الأطراف المهتمة ذات العلاقة بنظام إدارة الجودة
E34: تحدد المنظمات متطلبات الأطراف المهتمة ذات العلاقة بالنظام
B35: 4-3 | C35: تحديد مجال/ نظاق نظام إدارة الجودة | E35: تحدد المنظمة الموضوعات الخارجية والداخلية (بند 4-1)
E36: تحدد المنظمة متطلبات الأطراف المهتمة ذات العلاقة (البند 4-2)
E37: تحدد المنظمة منتجاتها وخدماتها التي يغطيها نظام إدارة الجودة
E38: تحدد المنظمة التبرير لأي حال فيها إحدى متطلبات هذه المواصفة لا يمكن تطبيقها
B39: 4-4 | C39: نظام إدارة الجودة وعملياته | E39: تحدد المنظمة العمليات اللازمة لنظام إدارة الجودة
E40: تحدد المنظمة المدخلات والمخرجات المتوقعة لهذه العمليات
E41: تتأكد المنظمة من تسلسل وتتابع العمليات والتفاعل بينها
E42: تحدد المنظمة خصائص العمليات و وسائلها والقياسات التي تتضمنها ومؤشرات الأداء للتأكد من كفاءة التشغيل
E43: تحدد المنظمة الموارد المطلوبة والتأكد من توفرها
E44: توضح المنظمة طريقة إسناد المسؤوليات والصلاحيات لهذه العمليات
E45: تحدد المنظمة المخاطر والفرص التي تهمها وتخطيط وتنفيذ الإجراءات المناسبة للتصدي لها
E46: تحدد المنظمة طرق الرصد والقياس وتقييم العمليات
E47: تحدد المنظمة الفرص المتاحة لتحسين العمليات ونظام إدارة الجودة
B48: 5 | C48: القيادة
B49: 5-1 | C49: القيادة والالتزام
B50: 5-1-1 | C50: القيادة والتزامها تجاه نظام إدارة الجودة | E50: تؤكد الإدارة العليا بالمنظمة تحمل المسؤولية تجاه فعالية نظام إدارة الجودة
E51: تؤكد الإدارة العليا بالمنظمة بأنه تم وضع سياسة وأهداف الجودة لنظام إدارة الجودة وأنها متوافقة مع التوجية الاستراتيجي وسياق المنظمة
E52: تؤكد الإدارة العليا للمنظمة توافق سياسة وأهداف الجودة مع التوجه الاستراتيجي للمنظمة
E53: تؤكد الإدارة العليا بالمنظمة بأن سياسة الجودة معلومة لدى جميع العاملين ومفهومة ومطبقة
E54: تعمل المنظمة على دمج متطلبات نظام إدارة الجودة في عمليات المنظمة
E55: تؤكد المنظمة على تشجيع الوعي بمنهجية العمليات
E56: تتأكد المنظمة من توفر الموارد اللازمة لنظام إدارة الجودة
E57: تؤكد المنظمة على نشر أهمية توافق فعالية نظام إدارة الجودة مع متطلبات نظام إدارة الجودة
E58: تدعم المنظمة المشاركة والتوجه والدعم للأفراد للمساهمة في فعالية نظام إدارة الجود
E59: تؤكد المنظمة على تشجيع التحسين المستمر
E60: تدعم المنظمة دور الإدارات الأخرى ذات العلاقة لإبراز قيادتها على مناطق المسؤولية
B61: 5-1-2 | C61: التركز على العميل | E61: تؤكد المنظمة بأنه تم تحديد متطلبات العميل المتوافقة مع المتطلبات القانونية والتنظيمية
E62: تؤكد المنظمة بأنه تم تحديد المخاطر والفرص التي تؤثر على مطابقة المنتجات أو الخدمات
E63: تؤكد المنظمة بأنه يتم الحفاظ على التركيز على استمرار توفير المنتجات والخدمات التي تفي بمتطلبات العملاء والمتطلبات القانونية والتنظيمية
E64: تؤكد المنظمة بأنه يتم التركيز على تعزيز رضا العملاء بشكل مستمر
B65: 5-2 | C65: سياسة الجودة
B66: 5-2-1 | C66: إنشاء ومراجعة سياسة الجودة من قبل الإدارة العليا وتؤكد بأنها | E66: ملائمة لغرض وسياق المنظمة
E67: توفر إطاراً عملياً لوضع ومراجعة أهداف الجودة
E68: تشمل التزاماً باستيفائ المتطلبات التي تنطبق على المنظمة
E69: تحتوي على الالتزام بالتحسين المستمر
B70: 5-2-2 | C70: تؤكد المنظمة بأن سياسة الجودة | E70: متاحة كمعلومة موثقة
E71: منشورة ومفهومة ومطبقة داخل المنظمة
E72: متاحة لدى الأطراف المهتمة ذات العلاقة كلما كان ذلك ممكناَ
B73: 5-3 | C73: الأدوار التنظيمية والمسؤوليات والصلاحيات | E73: تقوم الإدارة العليا بالتكليف بالمسؤوليات والصلاحيات لضمان أن نظام إدارة الجودة يتوافق مع هذه المواصفة الدولية
E74: تتأكد الإدارة العليا من أن نظام التقارير فيما يتعلق بأداء نظام إدارة الجودة يتم رفعه لها
E75: تتأكد الإدارة العليا بأنه يتم تشجيع العميل في جميع أنحاء المنظمة
E76: تتأكد الإدارة العليا من ضمان المحافظة على تكامل نظام إدارة الجودة عند تخطيط وتنفيذ بعض التعديلات عليه
B77: 6 | C77: التخطيط لنظام إدارة الجودة
B78: 6-1 | C78: إجراءات التعرف على المخاطر والفرص
B79: 6-1-1 | C79: المخاطر والفرص | E79: عند التخطيط لنظام الجودة يتم التأكيد على أن نظام إدارة الجودة يمكنه تحقيق النتائج المقصودة
E80: تؤكد المنظمة بأن تم التأكد من أن تحديد المخاطر يؤدي إلى منع وتقليل الآثار غير المرغوب فيها
E81: تؤكد المنظمة بأنه تم التوثيق تحديد المخاطر والفرص يحقق التحسين المستمر
B82: 6-1-2 | C82: التخطيط للتعامل مع الخاطر والفرص | E82: تقوم المنظمة بتخطيط إجراءات خاصة للتعامل مع المخاطر والفرص
E83: تؤكد المنظمة بأنها تخطط على كيفية إدماج وتنفيذ الإجراءات في عملية نظام إدارة الجودة
E84: تعمل المنظمة على تقييم مدى فعالية إجراءت تحديد المخاطر
B85: 6-2 | C85: أهداف الجودة والتخطيط لتنفيذها
B86: 6-2-1 | C86: تضع المنظمة أهدافاً للجودة وتؤكد بأن هذه الأهداف | E86: متوافقة مع سياسة الجودة
E87: يمكن قياسها
E88: تأخذ في الاعتبار المتطلبات واجبة التطبيق
E89: يتم رصدها
E90: تم تعريف المعنيين بها
E91: يتم تحديثها عند الحاجة
E92: يتم الاحتفاظ بها ونشرها
B93: 6-2-2 | C93: تخطط المنظمة لكيفية تحقيق أهدافها وتؤكد أنها تعمل على تحديد | E93: ماذا سوف تفعل
E94: ماهي الموارد المطلوبة
E95: من هو المسؤول
E96: متى سنتنهي (ستكتمل)
E97: كيفية يمكن تقييم النتائج
B98: 6-3 | C98: التخطيط للتغيرات | E98: عندما تقوم المنظمة بإجراء تعديلات على نظام إدارة الجودة تحدد الغرض من التعديلات وأية عواقب محتملة
E99: تؤكد المنظمة على تكامل نظام إدارة الجودة بما يخص التغييرات
E100: تلتزم المنظمة بالتأكد من توافر الموارد بناءً على التغييرات
E101: تقوم المنظمة بتوزيع وإعادة توزيع المسؤوليات والصلاحيات
B102: 7 | C102: المساندة
...

Sheet الأنشطة والمستندات
B3: رقم البند (ISO 9001:2015) | C3: وصف البند | E3: الانشطة ( المستندات, والسجلات الداعمة) | I3: جهة الاختصاص
J4: غير متوفر | K4: متوفر جزئي | L4: متوفر
M5: =M19 -> 76.923077
B6: 1 | C6: عام | E6: يوجد لدى المنظمة رؤية ورسالة وأهداف | J6: 1 | M6: <<<< هذه المنطقة هي مساحة العمل والتقييم
E7: تقوم المنظمة بتحديد احتياجات وتوقعات العملاء والأطراف المهتمة الأخرى ذات الصلة | J7: 1
E8: تحدد المنظمة العمليات التشغيلية الخاصة بها | L8: 1
E9: يوجد لدى المنظمة أنظمة إدارية / أدلة / الوائح متبعه (يرجى ذكرها بالتفصيل) | L9: 1
E10: يوجد لدى المنظمة مواصفات ومراجع ومعايير خاصة بمجال عملها ويتم تطبيقها | K10: 1
E11: يوجد لدى المنظمة مشاريع خاصة بها (يرجى ذكرها بالتفصيل) | K11: 1
E12: يوجد لدى المنظمة هيكل تنظيمي وتوصيفات وظيفية للموظفين | K12: 1
B13: 2 | C13: المواصفات | E13: ISO 9000- 9001-9004 | L13: 1
B14: 3 | C14: منهجية العمليات | E14: تعمل المنظمة على إدارة العمليات الخاصة بها وفق منهجية محددة و واضحة | L14: 1
E15: يتم تحسين وتطوير العمليات استناداً إلى تحليل وتقييم واقعي | L15: 1
B16: 4 | C16: دائرة PDCA | E16: يتم تطبيق منهجية PDCA على جميع العمليات الخاصة بالمنظمة ونظام إدارة الجودة | L16: 1
B17: 5 | C17: التفكير المبني على المخاطر | E17: تعمل المنظمة وفق اختيار وإنشاء منهج خاص للتعامل مع المخاطر | L17: 1
B18: 6 | C18: التوافق مع مواصفات النظم الإدارة الأخرى | E18: تنفذ المنظمة العمليات بطريقة توافقية ومتناسقة مع نظام إدارة الجودة ومواصفات النظم الأخرى | K18: 1 | L18: 1
J19: =(J6+J7+J8+J9+J10+J11+J12+J13+J14+J15+J16+J17+J18)*0 -> 0 | K19: =(K6+K7+K8+K9+K10+K11+K12+K13+K14+K15+K16+K17+K18)/13*100/2 -> 15.384615 | L19: =(L6+L7+L8+L9+L10+L11+L12+L13+L14+L15+L16+L17+L18)/13*100 -> 61.538462 | M19: =SUM(J19:L19) -> 76.923077 | N19: المعدل | O19: <<<< النتائج
J20: =J6+J7+J8+J9+J10+J11+J12+J13+J14+J15+J16+J17+J18 -> 2 | K20: =K6+K7+K8+K9+K10+K11+K12+K13+K14+K15+K16+K17+K18 -> 4 | L20: =L6+L7+L8+L9+L10+L11+L12+L13+L14+L15+L16+L17+L18 -> 8 | M20: =SUM(J20:L20) -> 14 | N20: عدد المعايير | O20: <<<< النتائج

Sheet متطلبات نظام إدارة الجودة
I2: جهة الاختصاص | J2: غير متوفر | K2: متوفر جزئي | L2: متوفر
B3: نظام إدارة الجودة - المتطلبات
B5: 1 | C5: المجال | E5: مجال عمل المنظمة (خدمة /منتج) | L5: 1 | M5: <<<< هذه المنطقة هي مساحة العمل والتقييم
B6: 2 | C6: المراجع | L6: 1
B7: 3 | C7: المصطلحات والتعريفات | E7: المواصفة ISO 9001:2005+ المواصفة ISO 2015 | L7: 1
J8: =(J5+J6+J7)*0 -> 0 | K8: =(K5+K6+K7)/3*100/2 -> 0 | L8: =(L5+L6+L7)/3*100 -> 100 | M8: =SUM(J8:L8) -> 100 | N8: المعدل
J9: =J5+J6+J7 -> 0 | K9: =K5+K6+K7 -> 0 | L9: =L5+L6+L7 -> 3 | M9: =SUM(J9:L9) -> 3 | N9: التكرار

Sheet سياق المنظمة
I2: جهة الاختصاص | J2: غير متوفر | K2: متوفر جزئي | L2: متوفر
B3: 4 | C3: سياق (إطار) المنظمة
A4: 1 | B4: 4-1 | C4: فهم المنظمة وسياقها | E4: تحدد المنظمة الموضوعات الخارجية والداخلية ذات العلاقة بأغراض المنظمة وتوجهاتها الاستراتيجية والقيم والثقافة ومعارف وأداء المنظمة | J4: 1 | L4: 1 | M4: <<<< هذه المنطقة هي مساحة العمل والتقييم
A5: 2 | B5: 4-2 | C5: فهم احتياجات وتوقعها الأطراف المهتمة | E5: تحدد المنظمة الأطراف المهتمة ذات العلاقة بنظام إدارة الجودة | K5: 1
A6: 3 | E6: تحدد المنظمات متطلبات الأطراف المهتمة ذات العلاقة بالنظام | K6: 1
A7: 4 | B7: 4-3 | C7: تحديد مجال/ نظاق نظام إدارة الجودة | E7: تحدد المنظمة الموضوعات الخارجية والداخلية (بند 4-1) | K7: 1
A8: 5 | E8: تحدد المنظمة متطلبات الأطراف المهتمة ذات العلاقة (البند 4-2) | K8: 1
A9: 6 | E9: تحدد المنظمة منتجاتها وخدماتها التي يغطيها نظام إدارة الجودة | K9: 1
A10: 7 | E10: تحدد المنظمة التبرير لأي حال فيها إحدى متطلبات هذه المواصفة لا يمكن تطبيقها | K10: 1
A11: 8 | B11: 4-4 | C11: نظام إدارة الجودة وعملياته | E11: تحدد المنظمة العمليات اللازمة لنظام إدارة الجودة | K11: 1
A12: 9 | E12: تحدد المنظمة المدخلات والمخرجات المتوقعة لهذه العمليات | L12: 1
A13: 10 | E13: تتأكد المنظمة من تسلسل وتتابع العمليات والتفاعل بينها | L13: 1
A14: 11 | E14: تحدد المنظمة خصائص العمليات و وسائلها والقياسات التي تتضمنها ومؤشرات الأداء للتأكد من كفاءة التشغيل | L14: 1
A15: 12 | E15: تحدد المنظمة الموارد المطلوبة والتأكد من توفرها | L15: 1
A16: 13 | E16: توضح المنظمة طريقة إسناد المسؤوليات والصلاحيات لهذه العمليات | J16: 1
A17: 14 | E17: تحدد المنظمة المخاطر والفرص التي تهمها وتخطيط وتنفيذ الإجراءات المناسبة للتصدي لها | L17: 1
A18: 15 | E18: تحدد المنظمة طرق الرصد والقياس وتقييم العمليات | L18: 1
A19: 16 | E19: تحدد المنظمة الفرص المتاحة لتحسين العمليات ونظام إدارة الجودة | L19: 1
J20: =(J4+J5+J6+J7+J8+J9+J10+J11+J12+J13+J14+J15+J16+J17+J18+J19)*0 -> 0 | K20: =(K4+K5+K6+K7+K8+K9+K10+K11+K12+K13+K14+K15+K16+K17+K18+K19)/16*100/2 -> 21.875 | L20: =(L4+L5+L6+L7+L8+L9+L10+L11+L12+L13+L14+L15+L16+L17+L18+L19)/16*100 -> 50 | M20: =SUM(J20:L20) -> 71.875 | N20: المعدل | O20: <<<< النتائج
J21: =J4+J5+J6+J7+J8+J9+J10+J11+J12+J13+J14+J15+J16+J17+J18+J19 -> 2 | K21: =K4+K5+K6+K7+K8+K9+K10+K11+K12+K13+K14+K15+K16+K17+K18+K19 -> 7 | L21: =L4+L5+L6+L7+L8+L9+L10+L11+L12+L13+L14+L15+L16+L17+L18+L19 -> 8 | M21: =SUM(J21:L21) -> 17 | N21: عدد المتغيرات | O21: <<<< النتائج

Sheet القيادة
I2: جهة الاختصاص | J2: غير متوفر | K2: متوفر جزئي | L2: متوفر
B3: 5 | C3: القيادة | M3: =M34 -> 75
B4: 5-1 | C4: القيادة والالتزام
A5: 1 | B5: 5-1-1 | C5: القيادة والتزامها تجاه نظام إدارة الجودة | E5: تؤكد الإدارة العليا بالمنظمة تحمل المسؤولية تجاه فعالية نظام إدارة الجودة | L5: 1 | M5: <<<< هذه المنطقة هي مساحة العمل والتقييم
A6: 2 | E6: تؤكد الإدارة العليا بالمنظمة بأنه تم وضع سياسة وأهداف الجودة لنظام إدارة الجودة وأنها متوافقة مع التوجية الاستراتيجي وسياق المنظمة | L6: 1
A7: 3 | E7: تؤكد الإدارة العليا للمنظمة توافق سياسة وأهداف الجودة مع التوجه الاستراتيجي للمنظمة | L7: 1
A8: 4 | E8: تؤكد الإدارة العليا بالمنظمة بأن سياسة الجودة معلومة لدى جميع العاملين ومفهومة ومطبقة | L8: 1
A9: 5 | E9: تعمل المنظمة على دمج متطلبات نظام إدارة الجودة في عمليات المنظمة | K9: 1
A10: 6 | E10: تؤكد المنظمة على تشجيع الوعي بمنهجية العمليات | K10: 1
A11: 7 | E11: تتأكد المنظمة من توفر الموارد اللازمة لنظام إدارة الجودة | K11: 1
A12: 8 | E12: تؤكد المنظمة على نشر أهمية توافق فعالية نظام إدارة الجودة مع متطلبات نظام إدارة الجودة
A13: 9 | E13: تدعم المنظمة المشاركة والتوجه والدعم للأفراد للمساهمة في فعالية نظام إدارة الجود | K13: 1
A14: 10 | E14: تؤكد المنظمة على تشجيع التحسين المستمر | K14: 1
A15: 11 | E15: تدعم المنظمة دور الإدارات الأخرى ذات العلاقة لإبراز قيادتها على مناطق المسؤولية
A16: 12 | B16: 5-1-2 | C16: التركز على العميل | E16: تؤكد المنظمة بأنه تم تحديد متطلبات العميل المتوافقة مع المتطلبات القانونية والتنظيمية | L16: 1
A17: 13 | E17: تؤكد المنظمة بأنه تم تحديد المخاطر والفرص التي تؤثر على مطابقة المنتجات أو الخدمات | L17: 1
A18: 14 | E18: تؤكد المنظمة بأنه يتم الحفاظ على التركيز على استمرار توفير المنتجات والخدمات التي تفي بمتطلبات العملاء والمتطلبات القانونية والتنظيمية | L18: 1
A19: 15 | E19: تؤكد المنظمة بأنه يتم التركيز على تعزيز رضا العملاء بشكل مستمر | L19: 1
J20: =(J5+J6+J7+J8+J9+J10+J11+J12+J13+J14+J15+J16+J17+J18+J19)/15*100/2*0 -> 0 | K20: =(K5+K6+K7+K8+K9+K10+K11+K12+K13+K14+K15+K16+K17+K18+K19)/15*100/2 -> 16.666667 | L20: =(L5+L6+L7+L8+L9+L10+L11+L12+L13+L14+L15+L16+L17+L18+L19)/15*100 -> 53.333333 | M20: =SUM(J20:L20) -> 70
B21: 5-2 | C21: سياسة الجودة
A22: 16 | B22: 5-2-1 | C22: إنشاء ومراجعة سياسة الجودة من قبل الإدارة العليا وتؤكد بأنها | E22: ملائمة لغرض وسياق المنظمة | L22: 1
A23: 17 | E23: توفر إطاراً عملياً لوضع ومراجعة أهداف الجودة | L23: 1
A24: 18 | E24: تشمل التزاماً باستيفائ المتطلبات التي تنطبق على المنظمة | J24: 1
A25: 19 | E25: تحتوي على الالتزام بالتحسين المستمر | L25: 1
A26: 20 | B26: 5-2-2 | C26: تؤكد المنظمة بأن سياسة الجودة | E26: متاحة كمعلومة موثقة | L26: 1
A27: 21 | E27: منشورة ومفهومة ومطبقة داخل المنظمة | L27: 1
A28: 22 | E28: متاحة لدى الأطراف المهتمة ذات العلاقة كلما كان ذلك ممكناَ | L28: 1
A29: 23 | B29: 5-3 | C29: الأدوار التنظيمية والمسؤوليات والصلاحيات | E29: تقوم الإدارة العليا بالتكليف بالمسؤوليات والصلاحيات لضمان أن نظام إدارة الجودة يتوافق مع هذه المواصفة الدولية | L29: 1
A30: 24 | E30: تتأكد الإدارة العليا من أن نظام التقارير فيما يتعلق بأداء نظام إدارة الجودة يتم رفعه لها | K30: 1
A31: 25 | E31: تتأكد الإدارة العليا بأنه يتم تشجيع العميل في جميع أنحاء المنظمة | L31: 1
A32: 26 | E32: تتأكد الإدارة العليا من ضمان المحافظة على تكامل نظام إدارة الجودة عند تخطيط وتنفيذ بعض التعديلات عليه | K32: 1
D33: خلاصة سياسة الجودة | J33: =(J22+J23+J24+J25+J26+J27+J28+J29+J30+J31+J32)*0 -> 0 | K33: =(K22+K23+K24+K25+K26+K27+K28+K29+K30+K31+K32)/11*100/2 -> 9.0909091 | L33: =(L22+L23+L24+L25+L26+L27+L28+L29+L30+L31+L32)/11*100 -> 72.727273 | M33: =SUM(J33:L33) -> 81.818182
D34: خلاصة معيار القيادة | J34: =(J5+J6+J7+J8+J9+J10+J11+J12+J13+J14+J15+J16+J17+J18+J19+J22+J23+J24+J25+J26+J27+J28+J29+J30+J31+J32)*0 -> 0 | K34: =(K5+K6+K7+K8+K9+K10+K11+K12+K13+K14+K15+K16+K17+K18+K19+K22+K23+K24+K25+K26+K27+K28+K29+K30+K31+K32)/26*100/2 -> 13.461538 | L34: =(L5+L6+L7+L8+L9+L10+L11+L12+L13+L14+L15+L16+L17+L18+L19+L22+L23+L24+L25+L26+L27+L28+L29+L30+L31+L32)/26*100 -> 61.538462 | M34: =SUM(J34:L34) -> 75 | N34: المعدل | O34: <<<< النتائج
J35: =J5+J6+J7+J8+J9+J10+J11+J12+J13+J14+J15+J16+J17+J18+J19+J22+J23+J24+J25+J26+J27+J28+J29+J30+J31+J32 -> 1 | K35: =K5+K6+K7+K8+K9+K10+K11+K12+K13+K14+K15+K16+K17+K18+K19+K22+K23+K24+K25+K26+K27+K28+K29+K30+K31+K32 -> 7 | L35: =L5+L6+L7+L8+L9+L10+L11+L12+L13+L14+L15+L16+L17+L18+L19+L22+L23+L24+L25+L26+L27+L28+L29+L30+L31+L32 -> 16 | M35: =SUM(J35:L35) -> 24 | N35: عدد المعايير | O35: <<<< النتائج

Sheet التخطيط
I2: جهة الاختصاص | J2: غير متوفر | K2: متوفر جزئي | L2: متوفر
B3: 6 | C3: التخطيط لنظام إدارة الجودة | J3: =(J30+K30+L30) -> 77.272727
B4: 6-1 | C4: إجراءات التعرف على المخاطر والفرص | J4: =(J11+K11+L11) -> 75
B5: 6-1-1 | C5: المخاطر والفرص | E5: عند التخطيط لنظام الجودة يتم التأكيد على أن نظام إدارة الجودة يمكنه تحقيق النتائج المقصودة | L5: 1 | M5: <<<< هذه المنطقة هي مساحة العمل والتقييم
E6: تؤكد المنظمة بأن تم التأكد من أن تحديد المخاطر يؤدي إلى منع وتقليل الآثار غير المرغوب فيها | L6: 1
E7: تؤكد المنظمة بأنه تم التوثيق تحديد المخاطر والفرص يحقق التحسين المستمر | L7: 1
B8: 6-1-2 | C8: التخطيط للتعامل مع الخاطر والفرص | E8: تقوم المنظمة بتخطيط إجراءات خاصة للتعامل مع المخاطر والفرص | K8: 1
E9: تؤكد المنظمة بأنها تخطط على كيفية إدماج وتنفيذ الإجراءات في عملية نظام إدارة الجودة | K9: 1
E10: تعمل المنظمة على تقييم مدى فعالية إجراءت تحديد المخاطر | K10: 1
J11: =(J5+J6+J7+J8+J9+J10)*0 -> 0 | K11: =(K5+K6+K7+K8+K9+K10)/6*100/2 -> 25 | L11: =(L5+L6+L7+L8+L9+L10)/6*100 -> 50 | M11: =SUM(J11:L11) -> 75
B12: 6-2 | C12: أهداف الجودة والتخطيط لتنفيذها
B13: 6-2-1 | C13: تضع المنظمة أهدافاً للجودة وتؤكد بأن هذه الأهداف | E13: متوافقة مع سياسة الجودة | L13: 1 | M13: <<<< هذه المنطقة هي مساحة العمل والتقييم
E14: يمكن قياسها | L14: 1
E15: تأخذ في الاعتبار المتطلبات واجبة التطبيق | L15: 1
E16: يتم رصدها | L16: 1
E17: تم تعريف المعنيين بها | L17: 1
E18: يتم تحديثها عند الحاجة | L18: 1
E19: يتم الاحتفاظ بها ونشرها | L19: 1
B20: 6-2-2 | C20: تخطط المنظمة لكيفية تحقيق أهدافها وتؤكد أنها تعمل على تحديد | E20: ماذا سوف تفعل | L20: 1
E21: ماهي الموارد المطلوبة | L21: 1
E22: من هو المسؤول | K22: 1
E23: متى سنتنهي (ستكتمل) | K23: 1
E24: كيفية يمكن تقييم النتائج | K24: 1
B25: 6-3 | C25: التخطيط للتغيرات | E25: عندما تقوم المنظمة بإجراء تعديلات على نظام إدارة الجودة تحدد الغرض من التعديلات وأية عواقب محتملة | K25: 1
E26: تؤكد المنظمة على تكامل نظام إدارة الجودة بما يخص التغييرات | K26: 1
E27: تلتزم المنظمة بالتأكد من توافر الموارد بناءً على التغييرات | K27: 1
E28: تقوم المنظمة بتوزيع وإعادة توزيع المسؤوليات والصلاحيات | K28: 1
J29: =(J13+J14+J15+J16+J17+J18+J19+J20+J21+J22+J23+J24+J25+J26+J27+J28)*0 -> 0 | K29: =(K13+K14+K15+K16+K17+K18+K19+K20+K21+K22+K23+K24+K25+K26+K27+K28)/16*100/2 -> 21.875 | L29: =(L13+L14+L15+L16+L17+L18+L19+L20+L21+L22+L23+L24+L25+L26+L27+L28)/16*100 -> 56.25 | M29: =SUM(J29:L29) -> 78.125 | N29: معدل العنصر
J30: =(J5+J6+J7+J8+J9+J10+J13+J14+J15+J16+J17+J18+J19+J20+J21+J22+J23+J24+J25+J26+J27+J28)*0 -> 0 | K30: =(K5+K6+K7+K8+K9+K10+K13+K14+K15+K16+K17+K18+K19+K20+K21+K22+K23+K24+K25+K26+K27+K28)/22*100/2 -> 22.727273 | L30: =(L5+L6+L7+L8+L9+L10+L13+L14+L15+L16+L17+L18+L19+L20+L21+L22+L23+L24+L25+L26+L27+L28)/22*100 -> 54.545455 | M30: =SUM(J30:L30) -> 77.272727 | N30: المعدل العام | O30: <<<< النتائج
J31: =J5+J6+J7+J8+J9+J10+J13+J14+J15+J16+J17+J18+J19+J20+J21+J22+J23+J24+J25+J26+J27+J28 -> 0 | K31: =K5+K6+K7+K8+K9+K10+K13+K14+K15+K16+K17+K18+K19+K20+K21+K22+K23+K24+K25+K26+K27+K28 -> 10 | L31: =L5+L6+L7+L8+L9+L10+L13+L14+L15+L16+L17+L18+L19+L20+L21+L22+L23+L24+L25+L26+L27+L28 -> 12 | M31: =SUM(J31:L31) -> 22 | N31: التكرار | O31: <<<< النتائج

Sheet المساندة
I2: جهة الاختصاص | J2: غير متوفر | K2: متوفر جزئي | L2: متوفر
B3: 7 | C3: المساندة | J3: =M45 -> 71.621622
B4: 7-1 | C4: الموارد
B5: 7-1-1 | C5: عام | E5: توفر المنظمة الموارد اللازمة لإنشاء نظام إدارة الجودة وتطبيقه وصيانته | L5: 1 | M5: <<<< هذه المنطقة هي مساحة العمل والتقييم
E6: تضع المنظمة في عين الاعتبار القدرات والقيود المفروضة على الموارد الداخلية المتاحة | L6: 1
E7: تضع المنظمة في عين الاعتبار ما يلزم الحصول عليه من مقدمي الخدمات الخارجيين | L7: 1
B8: 7-1-2 | C8: الموارد البشرية | E8: توفر المنظمة الأفراد اللازمين للتشغيل الفعال لنظام إدارة الجودة وعملياته | L8: 1
B9: 7-1-3 | C9: البنية الحتية | E9: توفر المنظمة المباني والمرافق الخاص بها وتقوم بصيانتها بشكل دائم | L9: 1
E10: توفر المنظمة المعدات شاملة البرمجيات والأجهزة تقوم بصيانتها بشكل دائم | L10: 1
E11: توفر المنظمة وسائل النقل وتقوم بصيانتها بشكل دائم | L11: 1
E12: توفر المنظمة المعلومات وتكنولوجيا الاتصالات | L12: 1
E13: الميزانية و المستندات المالية | L13: 1
B14: 7-1-4 | C14: البيئة لتشغيل العمليات | E14: تقوم المنظمة بتحديد البيئة اللازمة لتشغيل عملياتها وتقوم وتقوم بالصيانة بما يحقق مطابقة المنتجات والخدمات | L14: 1
E15: لدى المنظمة خطة خاصة بالبيئة | L15: 1
E16: تهتم المنظمة بالعوامل الاجتماعية والفيزيائة والاجتماعية مثل الحرارة والرطوبة | L16: 1
E17: تحدد المنظمة وتنشر ارشادات العمل الخاصة بالبيئة | L17: 1
B18: 7-1-5 | C18: رصد وقياس الموارد | E18: تحدد المنظمة الموارد اللازم التأكد من أن نتائج رصدها وقياسها صحيحة ومعتمدة | L18: 1
E19: تقوم المنظمة بتحديد القياسات المطلوبة وكذلك أجهزة القياس والمتابعة للتأكد من مطابقة المنتجات والخدمات | K19: 1
E20: تقوم المنظمة باستخدام أجهزة القياسة والمراقبة لضمان قدرتها على القياس مطابقة للقياسات المطلوبة | K20: 1
E21: يوجد لدى المنظمة سجلات الصيانة الخاصة بالأجهز و وتتم عملية المعايرة للاجهزة والمعدات بصفة دورية أو قبل استخدامها طبقاً لمواصفات عالمية | K21: 1
E22: يتم تسجيل أي نتائج قياسية سابقة عندما يكون الجهاز مطابق للمطتلبات ويحتفظ بنتائج التحقق | K22: 1
E23: يتم إعادة ضبط الأجهزة عند الضرورة وحمايتها من التلف والفساد أثناء الاستخدام أو التداول أو التخزين | K23: 1
E24: تقوم المنظمة بتعريف أدوات القياس لتحديد حالة المعايرة | K24: 1
E25: يتم التحقق من أدوات القياس ومعايرتها على فترات زمنية محددة من قبل استخدامها وفقاً لمعايير دولية أو محلية | K25: 1
E26: يتم الاحتفاظ بأدوات القياس لمنع تلفها أو تدهورها بما يبطل حالة المعايرة | K26: 1
B27: 7-1-6 | C27: المعارف الخاصة بالمنظمة | E27: تحدد المنظمة المعارف الضرورية لتشغيل العمليات وتحقيق تطابق المنتجات والخدمات | K27: 1
E28: تحافظ المنظمة على المعلومات والوثائق الخاصة بالعمليات | K28: 1
E29: تستفيد المنظمة من الإخفاقات والمشروعات الناجحة | K29: 1
E30: تعمل المنظمة على جمع المعارف غير الموثقة والاستفادة من تجارب الخبراء | K30: 1
E31: تطبق المنظمة المصادر الخارجية من مواصفات ومعايير | K31: 1
B32: 7-2 | C32: الكفاءة | E32: لدى المنظمة إجراء خاص بالتدريب لرفع كفاءة العاملين | K32: 1
E33: لدى المنظمة خطة التدريبية تدريبية سنوية | K33: 1
E34: تحتفظ المنظمة بتقارير وسجلات البرامج التدريبية المنفذة | K34: 1
B35: 7-3 | C35: التوعية | E35: تعمل المنظمة على توعية جميع العاملين بما يخص سياسة وأهداف وفعالية نظام إدارة الجودة | K35: 1
E36: تتابع المنظمة مدى وعي العاملين من خلال مساهمتهم في فعالية نظام نظام إدارة الجودة بما في ذلك تحسين جودة الأداء | K36: 1
B37: 7-4 | C37: الاتصال | E37: تحدد المنظمة الإتصالات الداخلية والخارجية من خلال إنشاء إجراء خاص بالاتصال والتواصل الداخلي والخارجي | K37: 1
B38: 7-5 | C38: المعلومات الموثقة
B39: 7-5-1 | C39: عام | E39: نظام إدارة جودة في المنظمة يحتوي على المعلومات التي تطلبها المواصفة لفعالية النظام | K39: 1 | M39: <<<< هذه المنطقة هي مساحة العمل والتقييم
B40: 7-5-2 | C40: الإنشاء والتحديث | E40: يتم إنشاء وتحديث الإجراءات والوثائق الخاصة بالمنظمة وتوثيقها بطريقة توثيق حسب مواصفات الإجراءات | K40: 1
B41: 7-5-3 | C41: ضبط المعلومات الموثقة
B42: 7-5-3-1 | C42: يتم ضبط المعلومات لنظام إدارة الجودة من خلال | E42: إنشاء إجراء خاص بضبط الوثائق | L42: 1 | M42: <<<< هذه المنطقة هي مساحة العمل والتقييم
B43: 7-5-3-2 | C43: الاحتفاظ بالوثائق | E43: يتم حفظ الوثائق وتوزيعها وتعديلاتها وفقاً لإجراء محدد | L43: 1
J44: =(J5+J6+J7+J8+J9+J10+J11+J12+J13+J14+J15+J16+J17+J18+J19+J20+J21+J22+J23+J24+J25+J26+J27+J28+J29+J30+J31+J32+J33+J34+J35+J36+J37+J39+J40+J42+J43) -> 0 | K44: =(K5+K6+K7+K8+K9+K10+K11+K12+K13+K14+K15+K16+K17+K18+K19+K20+K21+K22+K23+K24+K25+K26+K27+K28+K29+K30+K31+K32+K33+K34+K35+K36+K37+K39+K40+K42+K43) -> 21 | L44: =(L5+L6+L7+L8+L9+L10+L11+L12+L13+L14+L15+L16+L17+L18+L19+L20+L21+L22+L23+L24+L25+L26+L27+L28+L29+L30+L31+L32+L33+L34+L35+L36+L37+L39+L40+L42+L43) -> 16 | M44: =SUM(J44:L44) -> 37 | N44: التكرار | O44: <<<< النتائج
J45: =(J5+J6+J7+J8+J9+J10+J11+J12+J13+J14+J15+J16+J17+J18+J20+J19+J21+J22+J23+J24+J25+J26+J27+J28+J29+J30+J31+J32+J33+J34+J35+J36+J37+J39+J40+J42+J43)*0 -> 0 | K45: =(K5+K6+K7+K8+K9+K10+K11+K12+K13+K14+K15+K16+K17+K18+K20+K19+K21+K22+K23+K24+K25+K26+K27+K28+K29+K30+K31+K32+K33+K34+K35+K36+K37+K39+K40+K42+K43)/37*100/2 -> 28.378378 | L45: =(L5+L6+L7+L8+L9+L10+L11+L12+L13+L14+L15+L16+L17+L18+L20+L19+L21+L22+L23+L24+L25+L26+L27+L28+L29+L30+L31+L32+L33+L34+L35+L36+L37+L39+L40+L42+L43)/37*100 -> 43.243243 | M45: =SUM(J45:L45) -> 71.621622 | N45: المعدل | O45: <<<< النتائج

Sheet التشغيل
J2: جهة الاختصاص | K2: غير متوفر | L2: متوفر جزئي | M2: متوفر
C3: 8 | D3: التشغيل | K3: =N80 -> 65.909091
A4: 1 | B4: 1 | C4: 8-1 | D4: تخطيط وضبط التشغيل | F4: تقوم المنظمة بتحديد المتطلبات للمنتجات أو الخدمات | K4: 1 | L4: 1 | M4: 1 | N4: <<<< هذه المنطقة هي مساحة العمل والتقييم
A5: 2 | B5: 2 | F5: تقوم المنظمة بوضع معايير للعمليات وقبول المنتجات والخدمات | K5: 1
A6: 3 | B6: 3 | F6: تحدد المنظمة الموارد اللازمة لتحقيق التطابق مع متطلبات المنتجات أو الخدمات | K6: 1
A7: 4 | B7: 4 | F7: تحتفظ المنظمة بالسجلات الخاصة بالتطابق | K7: 1
K8: =(K4+K5+K6+K7)*0 -> 0 | L8: =(L4+L5+L6+L7)/5*100/2 -> 10 | M8: =(M4+M5+M6+M7)/5*100 -> 20 | N8: =SUM(K8:M8) -> 30
C9: 8-2 | D9: تحديد متطلبات المنتجات والخدمات
A10: 4 | B10: 1 | C10: 8-2-1 | D10: التواصل مع العملاء | F10: لدى المنظمة عملية خاصة للتواصل مع العملاء فيما يخص المنتج أو الخدمة | M10: 1 | N10: <<<< هذه المنطقة هي مساحة العمل والتقييم
A11: 5 | B11: 2 | F11: تعمل المنظمة على جمع المعلومات الخاصة بآراء وانطباعات وشكاوي العملاء | M11: 1
A12: 6 | B12: 3 | F12: تحافظ المنظمة على ممتلكات العملاء | M12: 1
A13: 7 | B13: 4 | C13: 8-2-2 | D13: تحديد المتطلبات ذات العلاقة بالمتجات والخدمات | F13: تقوم المنظمة بتعريف متطلبات المنتجات أو الخدمات الضروري والمتطلبات القانونية | M13: 1
A14: 8 | B14: 5 | F14: لدى المنظمة القدرة على الإيفاء بمتطلبات المنتجات والخدمات المحددة التي تم طلبها | M14: 1
A15: 9 | B15: 6 | C15: 8-2-3 | D15: مراجعة المتطلبات ذات العلاقة بالمنتج أو الخدمة | F15: تقوم المنظمة بمراجعة المتطلبات ذات العلاقة بالمنتجات أو الخدمات المحددة بواسطة العملاء بما في ذلك أنشطة التسليم وما بعد التسليم | M15: 1
A16: 10 | B16: 7 | F16: تحدد المنظمة المتطلبات القانونية والتنظيمية الإضافية المتعلقة بالمنتجات أو الخدمات | M16: 1
A17: 11 | B17: 8 | F17: تراجع المنظمة متطلبات العقود والاتفاقيات أو الطلبيات التي تختلف عن الاتفاقات السابقة | M17: 1
K18: =(K10+K11+K12+K13+K14+K15+K16+K17)*0 -> 0 | L18: =(L10+L11+L12+L13+L14+L15+L16+L17)/8*100/2 -> 0 | M18: =(M10+M11+M12+M13+M14+M15+M16+M17)/8*100 -> 100 | N18: =SUM(K18:M18) -> 100
C19: 8-3 | D19: التصميم والتطوير للمنتجات أو الخدمات
A20: 12 | B20: 1 | C20: 8-3-1 | D20: عام | F20: تقوم المنظمة بتطبيق المتطلبات الخاصة بتطوير العمليات من أجل الإنتاج وتقديم الخدمة | M20: 1 | N20: <<<< هذه المنطقة هي مساحة العمل والتقييم
A21: 13 | B21: 2 | C21: 8-3-2 | D21: التخطيط للتصميم والتطوير | F21: تحدد المنظمة مراحل التصميم والتطوير الخاصة بالمنتج أو الخدمة التي تقدمه | M21: 1
A22: 14 | B22: 3 | F22: تحدد المنظمة المتطلبات التي تصف بالتحديد مراحل العملية بمافي ذلك مراجعات التصميم والتطوير المطبقة | M22: 1
A23: 15 | B23: 4 | F23: تحدد أنشطة التحقق والاعتماد المطلوبة للتصميم والتطوير | M23: 1
A24: 16 | B24: 5 | F24: تحدد المنظمة المسؤوليات والصلاحيات الداخلة في عمليات التصميم والتطوير | M24: 1
A25: 17 | B25: 6 | F25: تحدد المنظمة الحاجة الخاصة بإشراك العميل ومجموعات المستخدمين في عمليات التصميم والتطوير | M25: 1
A26: 18 | B26: 7 | C26: 8-3-3 | D26: مدخلات التصميم والتطوير | F26: تحدد المنظمة المتطلبات الأساسية والوظيفية ومتطلبات الأداء الخاصة بالتصميم والتطوير | M26: 1
A27: 19 | B27: 8 | F27: تحدد المنظمة المتطلبات القانونية والتشريعية المنطبعة على المنتج أو الخدمة | K27: 1
A28: 20 | B28: 9 | F28: تحدد المنظمة المواصفات ومعايير الممارسة التي التزمت المنظمة بتطبيقها | K28: 1
A29: 21 | B29: 10 | F29: تحدد المنظمة الموارد الداخلية والخارجية اللازمة لتصميم المنتجات أو الخدمات | K29: 1
A30: 22 | B30: 11 | F30: تحدد المنظمة عواقب الفشل المتوقعة نظراً لطبيعة المنتجات أو الخدمات | K30: 1
A31: 23 | B31: 12 | F31: تحدد المنظمة مستوى الرقابة المتوقعة على عملية التصميم والتطوير من قبل العملاء أو الأطراف ذات الصلة | K31: 1
A32: 24 | B32: 13 | C32: 8-3-4 | D32: ضوابط التصميم والتطوير | F32: تضمن ضوابط التصميم والتطوير أن النتائج المتحققة بأنشطة التصميم والتطوير محددة و واضحة | K32: 1
A33: 25 | B33: 14 | F33: يتم المراجعة على التصميم والتطوير كماهو مخطط لها | K33: 1
A34: 26 | B34: 15 | F34: يتم تنفيذ أنشطة التحقق للتأكد من أن مخرجات التصميم والتطوير تتوافق مع مدخلات التصميم والتطوير | K34: 1
A35: 27 | B35: 16 | F35: تضمن الضوابط بأنه تم الاعتماد للتأكد من أن المنتجات والمخرجات الناتجة قادرة على الوفاء بمتطلبات التطبيق أو الاستخدام المقصود | K35: 1
A36: 28 | B36: 17 | C36: 8-3-5 | D36: مخرجات التصميم والتطوير | F36: تتأكد المنظمة من أن مخرجات التصميم والتطوير تتوافق مع متطلبات مدخلات التصميم والتطوير | L36: 1
A37: 29 | B37: 18 | F37: تتأكد المنظمة من أن مخرجات التصميم والتطوير كافية للعمليات التالية في توفير المنتجات والخدمات | L37: 1
A38: 30 | B38: 19 | F38: تضمن المنظمة بأن مخرجات التصميم والتطوير تشمل أو مرجعية لمتطلبات الرصد والقياس وكذلك معايير القبول حسب قابلية التطبيق | L38: 1
A39: 31 | B39: 20 | F39: تضمن المنظمة أن المنتجات المنتجة أو الخدمة المقدمة صالحة للغرض المقصود وأنها آمنة وصالحة للاستخدام | L39: 1
A40: 32 | B40: 21 | C40: 8-3-6 | D40: التعديلات على التصميم والتطوير | F40: تعمل المنظمة على مراجعة وضبط وتحديد التغييرات التي تمت على ال مدخلات ومخرجات التصميم أثناء عملية تصميم وتطوير المنتجات والخدمات | L40: 1
K41: =(K20+K21+K22+K23+K24+K25+K26+K27+K28+K29+K30+K31+K32+K33+K34+K35+K36+K37+K38+K39+K40)*0 -> 0 | L41: =(L20+L21+L22+L23+L24+L25+L26+L27+L28+L29+L30+L31+L32+L33+L34+L35+L36+L37+L38+L39+L40)/21*100/2 -> 11.904762 | M41: =(M20+M21+M22+M23+M24+M25+M26+M27+M28+M29+M30+M31+M32+M33+M34+M35+M36+M37+M38+M39+M40)/21*100 -> 33.333333 | N41: =SUM(K41:M41) -> 45.238095
C42: 8-4 | D42: ضبط المنتجات والخدمات المقدمة من جهة خارجية
A43: 33 | B43: 1 | C43: 8-4-1 | D43: عام | F43: تتأكد المنطمة من أن المنتجات والخدمات المقدمة من جهات خارجية مطابقة لمتطلبات محددة عندما تكون المنتجات والخدمات الموردة مدمجة في منتجات وخدمات المنظمة | K43: 1 | M43: 1 | N43: <<<< هذه المنطقة هي مساحة العمل والتقييم
A44: 34 | B44: 2 | F44: تتأكد المنظمة من أن المنتجات الخارجية المقدمة من جهات خارجية ومقدمة مباشرة للعميل باسم المنظمة مطابقة للمواصفات المحددة | K44: 1 | M44: 1
A45: 35 | B45: 3 | F45: تعمل المنظمة قرار معتمد في حال توفيق جزء من المنتج أو الخدمة عن طريق جهات خارجية | K45: 1 | M45: 1
A46: 36 | B46: 4 | C46: 8-4-2 | D46: نوع ومدى ضبط التوريد الخارجي | F46: تركز المنظمة على التأثير المحتمل للتوريد الخارجي للعمليات والمنتجات والخدمات بما يتوافق مع متطلبات العملاء والمتطلبات القانونية والتنظيمية المنطبقة عليها | M46: 1
A47: 37 | B47: 5 | F47: تراقب المنظمة مدى فعالية الضوابط التي يطبقها المورد الخارجي لضمان بأن المنتجات والخدمات لي لها أثر سلبي على قدرة المنظمة استمرار تقديم خدمات مطابقة لمتطلبات العملاء | M47: 1
A48: 38 | B48: 6 | C48: 8-4-3 | D48: معلومات الموردين الخارجيين | F48: تقوم المنظمة بإبلاغ الموردين الخارجيين بالمتطلبات المنطبقة للمنتجات والخدمات المطلوب توريدها أو العمليات المطلوب تنفيذها باسم المنظمة | M48: 1
A49: 39 | B49: 7 | F49: تقوم المنظمة بإبلاغ الموردين الخارجيين بطرق أو عمليات أو أدوات الاعتماد والإفراج عن المنتجات والخدمات | M49: 1
A50: 40 | B50: 8 | F50: تهتم المنظمة بإبلاغ الموردين بمتطلبات كفاء العاملين بما في ذلك مؤهلاتهم | M50: 1
A51: 41 | B51: 9 | F51: تطلب المنظمة من الموردين التفاعل من نظام إدارة الجودة | L51: 1
A52: 42 | B52: 10 | F52: لدى المنظمة إجراء خاص بضبط المشتريات | L52: 1
A53: 43 | B53: 11 | F53: لدى المنظمة قائمة بالموردين المعتمدين | L53: 1
K54: =(K43+K44+K45+K46+K47+K48+K49+K50+K51+K52+K53)*0 -> 0 | L54: =(L43+L44+L45+L46+L47+L48+L49+L50+L51+L52+L53)/11*100/2 -> 13.636364 | M54: =(M43+M44+M45+M46+M47+M48+M49+M50+M51+M52+M53)/11*100 -> 72.727273 | N54: =SUM(K54:M54) -> 86.363636
C55: 8-5 | D55: الإنتاج وتقديم الخدمات
A56: 44 | B56: 1 | C56: 8-5-1 | D56: ضبط الانتاج والخدمات | F56: تطلب المنظمة من الموردين معلومات موثقة تحدد الأنشطة التي يتعين القيام بها والنتائج التي يمكن تحقيقها | K56: 1 | N56: <<<< هذه المنطقة هي مساحة العمل والتقييم
A57: 45 | B57: 2 | F57: توفر معلومات موثقة تحدد الأنشطة التي يتعين القيام بها والنتائج التي يمكن تحقيها | K57: 1
A58: 46 | B58: 3 | F58: أنشطة الرصد والقياس في المراحل المناسبة للتحقق من الوفاء بالمعايير الخاصة بمراقبة العمليات والمخرجات ومعايير القبول للمنتج أو الخدمة | K58: 1
A59: 47 | B59: 4 | F59: يتم استخدام وضبط البنية التحتية المناسبة وبيئة العمل للعمليات | K59: 1
A60: 48 | B60: 5 | F60: توفر واستخدام طرق مناسبة لرصد وقياس الموارد | L60: 1
A61: 49 | B61: 6 | F61: كفاءة ومؤهلات العاملين | L61: 1
A62: 50 | B62: 7 | F62: التحقق وإعادة التحقق دورياً للقدرة على تحقيق النتائج المخططة لأي عملية إنتاج أو تقديم خدمات لا يمكن التحقق من نتائجها بالرصد أو القياس المتلاحقة | L62: 1
A63: 51 | B63: 8 | F63: تنفيذ أنشطة الإفراج عن المنتجات والخدمات والتسليم وما بعد التسليم | L63: 1
A64: 52 | B64: 9 | C64: 8-5-2 | D64: التميز / التعريف والتتبع | F64: تقوم المنظمة باستخدام وسائل مناسبة لتعريف وتمييز مجرجات العمليات | L64: 1
A65: 53 | B65: 10 | F65: تقوم المنظمة بتمييز حالة المنتجات والعمليات من ناحية القياسات ومتطلبات المراقبة | L65: 1
A66: 54 | B66: 11 | C66: 8-5-3 | D66: ممتلكات العملاء والموردين الخارجيين | F66: يوجد لدى المنظمة إجراءات ضبط الملكية الخاصة بالزبون (ممتلكات الزبائن) | M66: 1
A67: 55 | B67: 12 | F67: يتم تسجيل وتقديم التقارير المطلوبة للزبائن عند حدوث أو تلف لأي من ممتلكاتهم أو عدم صلاحيتها | M67: 1
A68: 56 | B68: 13 | C68: 8-5-4 | D68: الحفظ | F68: تضمن المنظمة الحفاظ على مخرجات العمليات أثناء الإنتاج وتوفير الخدمات بالقدر اللازم للحفاط على التوافق مع المتطلبات | M68: 1
A69: 57 | B69: 14 | C69: 8-5-5 | D69: أنشطة ما بعد التوريد | F69: تحدد المنظمة الأنشطة الخاصة بالمخاطر المرتبطة بالمنتجات والخدمات | M69: 1
A70: 58 | B70: 15 | F70: تهتم المنظمة بطبيعة المنتجات والخدمات واستخدامها وتاريخ صلاحيتها | M70: 1
A71: 59 | B71: 16 | F71: تتابع المنظمة التغذية المرتدة من العميل بما يخص المنتجات أو الخدمات | M71: 1
A72: 60 | B72: 17 | F72: تتابع المنظمة وتطبق المتطلبات القانونية والتنظيمية بما يخص المنتجات أو الخدمات | M72: 1
A73: 61 | B73: 18 | C73: 8-5-6 | D73: ضبط التعديلات | F73: تقوم المنظمة بمراجعة وضبد التعديلات غير المخططة الضرورية لتوريد المنتجات أو تقديم الخدمات للتأكد من استمرار التوافق مع المتطلبات المحددة | M73: 1
A74: 62 | B74: 19 | F74: تحتفظ المنظمة بالوثائق الخاصة بنتائج مراجعة التعديلات والعاملين الذين لهم صلاحية التعديل | M74: 1
A75: 63 | B75: 20 | C75: 8-6 | D75: الإفراج عن المنتجات والخدمات | F75: لدى المنظمة إجراء خاص بالإفراج عن المنتجات أو الخدمات | M75: 1
A76: 64 | B76: 21 | C76: 8-7 | D76: ضبط عدم تطابق مخرجات عملية أو منتجات أو خدمات | F76: تقوم المنظمة بتعريف وتمييز مخرجات المنتجات والخدمات غير المطابقة وضبطها لمنع الاستخدام غير المقصود أو التوريد | M76: 1
A77: 65 | B77: 22 | F77: تتعامل المنظمة مع عدم تطابق مخرجات العمليات والمنتجات بالتصحيح والفرز وإبلاغ العميل | M77: 1
K78: =(K56+K57+K58+K59+K60+K61+K62+K63+K64+K65+K66+K67+K68+K69+K70+K71+K72+K73+K74+K75+K76+K77)*0 -> 0 | L78: =(L56+L57+L58+L59+L60+L61+L62+L63+L64+L65+L66+L67+L68+L69+L70+L71+L72+L73+L74+L75+L76+L77)/22*100/2 -> 13.636364 | M78: =(M56+M57+M58+M59+M60+M61+M62+M63+M64+M65+M66+M67+M68+M69+M70+M71+M72+M73+M74+M75+M76+M77)/22*100 -> 54.545455
K79: =K4+K5+K6+K7+K10+K11+K12+K13+K14+K15+K16+K17+K20+K21+K22+K23+K24+K25+K26+K27+K28+K29+K30+K31+K32+K33+K34+K35+K36+K37+K38+K39+K40+K43+K44+K45+K46+K47+K48+K49+K50+K51+K52+K53+K56+K57+K58+K59+K60+K61+K62+K63+K64+K65+K66+K67+K68+K69+K70+K71+K72+K73+K74+K75+K76+K77 -> 20 | L79: =L4+L5+L6+L7+L10+L11+L12+L13+L14+L15+L16+L17+L20+L21+L22+L23+L24+L25+L26+L27+L28+L29+L30+L31+L32+L33+L34+L35+L36+L37+L38+L39+L40+L43+L44+L45+L46+L47+L48+L49+L50+L51+L52+L53+L56+L57+L58+L59+L60+L61+L62+L63+L64+L65+L66+L67+L68+L69+L70+L71+L72+L73+L74+L75+L76+L77 -> 15 | M79: =M4+M5+M6+M7+M10+M11+M12+M13+M14+M15+M16+M17+M20+M21+M22+M23+M24+M25+M26+M27+M28+M29+M30+M31+M32+M33+M34+M35+M36+M37+M38+M39+M40+M43+M44+M45+M46+M47+M48+M49+M50+M51+M52+M53+M56+M57+M58+M59+M60+M61+M62+M63+M64+M65+M66+M67+M68+M69+M70+M71+M72+M73+M74+M75+M76+M77 -> 36 | N79: =SUM(K79:M79) -> 71 | O79: التكرار | P79: <<<< النتائج
K80: =(K4+K5+K6+K7+K10+K11+K12+K13+K14+K15+K16+K17+K20+K21+K22+K23+K24+K25+K26+K27+K28+K29+K30+K31+K32+K33+K34+K35+K36+K37+K38+K39+K40+K43+K44+K45+K46+K47+K48+K49+K50+K51+K52+K53+K56+K57+K58+K59+K60+K61+K62+K63+K64+K65+K66+K67+K68+K69+K70+K71+K72+K73+K74+K75+K76+K77)*0 -> 0 | L80: =(L4+L5+L6+L7+L10+L11+L12+L13+L14+L15+L16+L17+L20+L21+L22+L23+L24+L25+L26+L27+L28+L29+L30+L31+L32+L33+L34+L35+L36+L37+L38+L39+L40+L43+L44+L45+L46+L47+L48+L49+L50+L51+L52+L53+L56+L57+L58+L59+L60+L61+L62+L63+L64+L65+L66+L67+L68+L69+L70+L71+L72+L73+L74+L75+L76+L77)/66*100/2 -> 11.363636 | M80: =(M4+M5+M6+M7+M10+M11+M12+M13+M14+M15+M16+M17+M20+M21+M22+M23+M24+M25+M26+M27+M28+M29+M30+M31+M32+M33+M34+M35+M36+M37+M38+M39+M40+M43+M44+M45+M46+M47+M48+M49+M50+M51+M52+M53+M56+M57+M58+M59+M60+M61+M62+M63+M64+M65+M66+M67+M68+M69+M70+M71+M72+M73+M74+M75+M76+M77)/66*100 -> 54.545455 | N80: =SUM(K80:M80) -> 65.909091 | O80: المعدل | P80: <<<< النتائج

Sheet تقييم الأداء
I2: جهة الاختصاص | J2: غير متوفر | K2: متوفر جزئي | L2: متوفر
B3: 9 | C3: تقييم الأداء | M3: =M37 -> 29.310345
B4: 9-1 | C4: الرصد والقياس والتحليل والتقييم
B5: 9-1-1 | C5: عام | E5: تحدد المنظمة احتياجاتها من الرصد والقياس وطريق الرصد والقياس والتحليل والتقييم وزمن الرصد والقياس | J5: 1 | K5: 1 | M5: <<<< هذه المنطقة هي مساحة العمل والتقييم
E6: تتأكد المنظمة من أن أنشطة الرصد والقياس يتم تطبيقها وفقاً للمتطلبات المحددة | J6: 1 | K6: 1
E7: تحتفظ المنظمة بمعلومات موثقة كدليل على نتائج الرصد والقياس | J7: 1 | K7: 1
B8: 9-1-2 | C8: رضا العملاء | E8: لدى المنظمة استبيان يحدد من خلاله مدى تلبيتها لتوقعات و رضاء العملاء | J8: 1 | K8: 1
E9: هناك إجراء خاص بضبط التغيرات المتعلقة بالتعامل مع العملاء | J9: 1 | K9: 1
E10: هناك عملية خاصة لدى المنظمة بضبط الشكاوى وحلها | J10: 1 | L10: 1
E11: يتم معرفة التغذية الراجعة من العملاء عن طريق رسائل الشكر والتقدير والتعاملات اللاحقة | J11: 1 | L11: 1
B12: 9-1-3 | C12: التحليل والتقيم | E12: تقوم المنظمة بتحليل وتقييم البيانات والمعلومات الناتجة عن الرصد والقياس | J12: 1 | L12: 1
E13: يتم استخدام نتائج التحليل والقياس لإبراز تطابق المنتجات والخدمات مع المتطلبات وتقييم وتعزيز رضا العملاء | J13: 1 | L13: 1
E14: يتم تقييم أداء العمليات عن طريق نتائج التحليل والقياس | J14: 1 | L14: 1
E15: يتم تقييم الموردين الخارجيين عن طريق نتائج التحليل والقياس | J15: 1 | L15: 1
B16: 9-2
B17: 9-2-1 | C17: المراجعة الداخلية | E17: يوجد لدى المنظمة إجراء خاص بالمراجعة الداخلية | J17: 1 | M17: <<<< هذه المنطقة هي مساحة العمل والتقييم
E18: يوجد خطة زمنية خاصة بالمراجعة الدورية | J18: 1
E19: يوجد نموذج خاص بالمراجعة | J19: 1
E20: يوجد سجلات خاصة بالمراجعة | J20: 1
B21: 9-2-2 | C21: يجب على المنظمة | E21: تحديد مسؤوليات ومتطلبات المراجعة وأهداف الجودة | J21: 1
E22: تحدد المنظمة خصائص المراجعة ومجال كل مراجعة | J22: 1
E23: تختار المنظمة المراجعين المؤهلين وتنفذ المراجعات | J23: 1
E24: يتم رفع نتائج وتقارير المراجعة للإدارات المعنية | J24: 1
E25: يتم اتخاذ التصحيحات والإجراءات التصحيحية للازمة مباشرة | J25: 1
E26: يتم الاحتفاظ بخطط وسجلات المراجعة والتقارير والنتائج كدليل على تنفيذ المراجعة | J26: 1
B27: 9-3 | C27: مراجعة الإدارة
B28: 9-3-1 | C28: يجب على الإدارة العليا مراجعة نظام إدارة الجودة | E28: تقوم الإدارة العملية بعملية المراجعة على نظام إدارة الجودة وفق خطة زمنية | J28: 1 | M28: <<<< هذه المنطقة هي مساحة العمل والتقييم
E29: يتم مراجعة محاضر الاجتماعات السابقة المتفق عليها | J29: 1
E30: تهتم المنظمة بالتغيرات في الموضوعات الخارجية والداخلية التي لها علاقة بنظام إدارة الجودة بمافي ذلك التوجهات الاستراتيجية | J30: 1
E31: تتابع الإدارة العليا بالمنظمة المواضيع المرتبطة بعدم المطابقة والإجراءات التصحيحية ونتائج الرصد والقياس | J31: 1
E32: تتابع الإدارة العليا نتائج المراجعات وكل ما له علاقة برضا العملاء | J32: 1
E33: تتابع الإدارة العليا كل ما له علاقة بالموردين الخارجيين والأطراف المهتمة ذات العلاقة | J33: 1
E34: تتأكد الإدارة العليا من كفاية الموارد اللازمة للمحافظة على فعالية نظام إدارة الجودة | J34: 1
B35: 9-3-2 | C35: مخرجات مراجعة الإدارة | E35: مخرجات مراجعة الإدارة تحتوي على قرارات وإجراءا متعلقة بالتحسين المستمر وتغييرات نظام إدارة الجودة بما فيها الحاجة إلى الموارد | J35: 1
J36: =(J5+J6+J7+J8+J9+J10+J11+J12+J13+J14+J15+J17+J18+J19+J20+J21+J22+J23+J24+J25+J26+J28+J29+J30+J31+J32+J33+J34+J35) -> 29 | K36: =(K5+K6+K7+K8+K9+K10+K11+K12+K13+K14+K15+K17+K18+K19+K20+K21+K22+K23+K24+K25+K26+K28+K29+K30+K31+K32+K33+K34+K35) -> 5 | L36: =(L5+L6+L7+L8+L9+L10+L11+L12+L13+L14+L15+L17+L18+L19+L20+L21+L22+L23+L24+L25+L26+L28+L29+L30+L31+L32+L33+L34+L35) -> 6 | M36: =SUM(J36:L36) -> 40 | N36: التكرار | O36: <<<< النتائج
J37: =(J5+J6+J7+J8+J9+J10+J11+J12+J13+J14+J15+J17+J18+J19+J20+J21+J22+J23+J24+J25+J26+J28+J29+J30+J31+J32+J33+J34+J35)*0 -> 0 | K37: =(K5+K6+K7+K8+K9+K10+K11+K12+K13+K14+K15+K17+K18+K19+K20+K21+K22+K23+K24+K25+K26+K28+K29+K30+K31+K32+K33+K34+K35)/29*100/2 -> 8.6206897 | L37: =(L5+L6+L7+L8+L9+L10+L11+L12+L13+L14+L15+L17+L18+L19+L20+L21+L22+L23+L24+L25+L26+L28+L29+L30+L31+L32+L33+L34+L35)/29*100 -> 20.689655 | M37: =K37+L37 -> 29.310345 | N37: المعدل | O37: <<<< النتائج

Sheet التحسين
I2: جهة الاختصاص | J2: غير متوفر | K2: متوفر جزئي | L2: متوفر
B3: 10 | C3: التحسين | M3: =M16 -> 85
B4: 10-1 | C4: عام | E4: تقوم المنظمة بتحديد واختيار فرص التحسين من خلال تحسين العمليات لمنع عدم التطابق | J4: 1 | L4: 1 | M4: <<<< هذه المنطقة هي مساحة العمل والتقييم
E5: تقوم المنظمة بتحديد واختيار فرص التحسين من خلال تحسين المنتجات والخدمات لتتوافق مع المتطلبات المعروفة والمتوقعه | J5: 1 | L5: 1
B6: 10-2 | C6: عدم التطابق والإجراءات التصحيحية
B7: 10-2-1 | C7: عند حدوث عدم مطابقة | E7: تقوم المنظمة باتخاذ إجراء لضبط الحالة وتصحيحها | L7: 1 | M7: <<<< هذه المنطقة هي مساحة العمل والتقييم
E8: تتعامل مع تبعات حالة عدم المطابقة | L8: 1
E9: تعمل على مراجعة حالة عدم مطابقة | L9: 1
E10: تحدد المنظمة سبب حدوث عدم المطابقة وهل قد حدثت حالات مشابهة أم محتمل حدوثها | K10: 1
E11: تعمل المنظمة على مراجعة أي إجراء تصحيحي تم اتخاذه وعلى تعديلات نظام إدارة الجودة إذا اقتضت الضرورة لذلك | K11: 1
B12: 10-3 | C12: التحسين المستمر | E12: تعمل المنظمة باستمرار لتحسين ملائمة وكفاءة وفعالية نظام إدارة الجودة | K12: 1 | L12: 1
E13: تعمل المنظمة على تحسين فرص الأدء من خلال تنفيذ مخرجات التحيل والتقييم وكذلك مراجعة الإدارة | K13: 1
E14: تستخدم المنظمة أدوات ومنهجيات لتقصي أسباب قصور الأداء ولدعم التحسين المستمر | K14: 1
J15: =J4+J5+J7+J8+J9+J10+J11+J12+J13+J14 -> 2 | K15: =K4+K5+K7+K8+K9+K10+K11+K12+K13+K14 -> 5 | L15: =L4+L5+L7+L8+L9+L10+L11+L12+L13+L14 -> 6 | M15: =SUM(J15:L15) -> 13 | N15: عدد المعايير | O15: <<<< النتائج
J16: =(J4+J5+J7+J8+J9+J10+J11+J12+J13+J14)*0 -> 0 | K16: =(K4+K5+K7+K8+K9+K10+K11+K12+K13+K14)/10*100/2 -> 25 | L16: =(L4+L5+L7+L8+L9+L10+L11+L12+L13+L14)/10*100 -> 60 | M16: =SUM(J16:L16) -> 85 | N16: المعدل | O16: <<<< النتائج

Sheet النتائج
B1: يرجى عدم التغيير في هذا الجدول لأنه يمثل مخرجات العمل ومرتبط بالبيانات الداخلية
B3: المعايير | C3: المعدل | D3: غير متوفر | E3: متوفر جزئيا | F3: متوفر | G3: عدد المعايير
B4: الأنشطة | C4: ='الأنشطة والمستندات'!M19 -> 76.923077 | D4: ='الأنشطة والمستندات'!J20 -> 2 | E4: ='الأنشطة والمستندات'!K20 -> 4 | F4: ='الأنشطة والمستندات'!L20 -> 8 | G4: =D4+E4+F4 -> 14
B5: متطلبات إدارة الجودة | C5: ='متطلبات نظام إدارة الجودة'!M8 -> 100 | D5: ='متطلبات نظام إدارة الجودة'!J9 -> 0 | E5: ='متطلبات نظام إدارة الجودة'!K9 -> 0 | F5: ='متطلبات نظام إدارة الجودة'!L9 -> 3 | G5: =D5+E5+F5 -> 3
B6: سياق إطار المنظمة | C6: ='سياق المنظمة'!M20 -> 71.875 | D6: ='سياق المنظمة'!J21 -> 2 | E6: ='سياق المنظمة'!K21 -> 7 | F6: ='سياق المنظمة'!L21 -> 8 | G6: =D6+E6+F6 -> 17
B7: القيادة | C7: =القيادة!M34 -> 75 | D7: =القيادة!J35 -> 1 | E7: =القيادة!K35 -> 7 | F7: =القيادة!L35 -> 16 | G7: =D7+E7+F7 -> 24
B8: التخطيط | C8: =التخطيط!M30 -> 77.272727 | D8: =التخطيط!J31 -> 0 | E8: =التخطيط!K31 -> 10 | F8: =التخطيط!L31 -> 12 | G8: =D8+E8+F8 -> 22
B9: المساندة | C9: =المساندة!M45 -> 71.621622 | D9: =المساندة!J44 -> 0 | E9: =المساندة!K44 -> 21 | F9: =المساندة!L44 -> 16 | G9: =D9+E9+F9 -> 37
B10: التشغيل | C10: =التشغيل!N80 -> 65.909091 | D10: =التشغيل!K79 -> 20 | E10: =التشغيل!L79 -> 15 | F10: =التشغيل!M79 -> 36 | G10: =D10+E10+F10 -> 71
B11: تقييم الأداء | C11: ='تقييم الأداء'!M37 -> 29.310345 | D11: ='تقييم الأداء'!J36 -> 29 | E11: ='تقييم الأداء'!K36 -> 5 | F11: ='تقييم الأداء'!L36 -> 6 | G11: =D11+E11+F11 -> 40
B12: التحسين | C12: =التحسين!M16 -> 85 | D12: =التحسين!J15 -> 2 | E12: =التحسين!K15 -> 5 | F12: =التحسين!L15 -> 6 | G12: =D12+E12+F12 -> 13
G13: =SUM(G4:G12) -> 241
B15: يرجى عدم التغيير في هذا الجدول لأنه يمثل مخرجات العمل ومرتبط بالبيانات الداخلية
